BEGIN:VCALENDAR
VERSION:2.0
PRODID:-//American Academy of Pediatrics - ECPv6.8.2//NONSGML v1.0//EN
CALSCALE:GREGORIAN
METHOD:PUBLISH
X-WR-CALNAME:American Academy of Pediatrics
X-ORIGINAL-URL:https://aapca2.org
X-WR-CALDESC:Events for American Academy of Pediatrics
REFRESH-INTERVAL;VALUE=DURATION:PT1H
X-Robots-Tag:noindex
X-PUBLISHED-TTL:PT1H
BEGIN:VTIMEZONE
TZID:America/Los_Angeles
BEGIN:DAYLIGHT
TZOFFSETFROM:-0800
TZOFFSETTO:-0700
TZNAME:PDT
DTSTART:20160313T100000
END:DAYLIGHT
BEGIN:STANDARD
TZOFFSETFROM:-0700
TZOFFSETTO:-0800
TZNAME:PST
DTSTART:20161106T090000
END:STANDARD
END:VTIMEZONE
BEGIN:VEVENT
DTSTART;TZID=America/Los_Angeles:20161005T183000
DTEND;TZID=America/Los_Angeles:20161005T210000
DTSTAMP:20260419T073548
CREATED:20160821T015558Z
LAST-MODIFIED:20160821T015558Z
UID:2739-1475692200-1475701200@aapca2.org
SUMMARY:Town Hall/Dinner in Woodland Hills - Ken Saul\, MD\, FAAP
DESCRIPTION:Please join AAP-CA2 Member-At-Large\, Ken Saul\, MD\, FAAP\, as he hosts an evening of professional development and networking in Woodland Hills.  Sponsored by Sanofi. \nTopic: Influenza and Influenza vaccine controversies \nTime: 6:30 PM \nLocation: Maggianos in Woodland Hills \nNote: We are back at Maggiano’s. \nPlease RSVP by emailing Dr. Saul: docksaul@aol.com
URL:https://aapca2.org/event/town-halldinner-in-woodland-hills-ken-saul-md-faap/
LOCATION:Maggiano’s in Woodland Hills\, 6100 Topanga Canyon Boulevard\, Woodland Hills\, CA\, 91367\, United States
END:VEVENT
END:VCALENDAR