BEGIN:VCALENDAR
VERSION:2.0
PRODID:-//American Academy of Pediatrics - ECPv6.8.2//NONSGML v1.0//EN
CALSCALE:GREGORIAN
METHOD:PUBLISH
X-WR-CALNAME:American Academy of Pediatrics
X-ORIGINAL-URL:https://aapca2.org
X-WR-CALDESC:Events for American Academy of Pediatrics
REFRESH-INTERVAL;VALUE=DURATION:PT1H
X-Robots-Tag:noindex
X-PUBLISHED-TTL:PT1H
BEGIN:VTIMEZONE
TZID:America/Los_Angeles
BEGIN:DAYLIGHT
TZOFFSETFROM:-0800
TZOFFSETTO:-0700
TZNAME:PDT
DTSTART:20260308T100000
END:DAYLIGHT
BEGIN:STANDARD
TZOFFSETFROM:-0700
TZOFFSETTO:-0800
TZNAME:PST
DTSTART:20261101T090000
END:STANDARD
END:VTIMEZONE
BEGIN:VEVENT
DTSTART;TZID=America/Los_Angeles:20260418T080000
DTEND;TZID=America/Los_Angeles:20260418T170000
DTSTAMP:20260420T100529
CREATED:20260102T175721Z
LAST-MODIFIED:20260404T010529Z
UID:11562-1776499200-1776531600@aapca2.org
SUMMARY:37th Annual Advances In Pediatrics Symposium
DESCRIPTION:2026 Annual Advances In Pediatrics Symposium (In-Person Only)\n5.25 CME – 5.25 MOC PART 2\nApril 18\, 2026 \nSet to take place at the Garland Hotel in North Hollywood\, this year’s Symposium is our biggest one yet! \n\nLectures with exceptional speakers and panels\nNetworking with fellow pediatric professionals\nState of the art conference center with free Wi-Fi and great food.\nLive recording of the Peds RAP Podcast\nIndustry exhibitors and product demonstrations\nThis year\, the event is in-person only\n\nFor more information\, head over to the official event page! Or\, to register now\, follow this link!
URL:https://aapca2.org/event/37th-annual-advances-in-pediatrics-symposium/
LOCATION:The Garland Hotel
END:VEVENT
END:VCALENDAR