BEGIN:VCALENDAR
VERSION:2.0
PRODID:-//American Academy of Pediatrics - ECPv6.8.2//NONSGML v1.0//EN
CALSCALE:GREGORIAN
METHOD:PUBLISH
X-WR-CALNAME:American Academy of Pediatrics
X-ORIGINAL-URL:https://aapca2.org
X-WR-CALDESC:Events for American Academy of Pediatrics
REFRESH-INTERVAL;VALUE=DURATION:PT1H
X-Robots-Tag:noindex
X-PUBLISHED-TTL:PT1H
BEGIN:VTIMEZONE
TZID:America/Los_Angeles
BEGIN:DAYLIGHT
TZOFFSETFROM:-0800
TZOFFSETTO:-0700
TZNAME:PDT
DTSTART:20240310T100000
END:DAYLIGHT
BEGIN:STANDARD
TZOFFSETFROM:-0700
TZOFFSETTO:-0800
TZNAME:PST
DTSTART:20241103T090000
END:STANDARD
END:VTIMEZONE
BEGIN:VEVENT
DTSTART;TZID=America/Los_Angeles:20241101T080000
DTEND;TZID=America/Los_Angeles:20241101T170000
DTSTAMP:20260423T185420
CREATED:20240829T191939Z
LAST-MODIFIED:20240829T191939Z
UID:10995-1730448000-1730480400@aapca2.org
SUMMARY:5th Annual Updates in Hospital Pediatrics Conference
DESCRIPTION:Join Dr. Barrett Fromme at the 5th Annual Updates in Hospital Pediatrics Conference! \nThis one-day event held at CHLA will feature experts in the field of PHM presenting an instructive and interactive program aimed at increasing knowledge and skills related to the practice of inpatient pediatrics. On November 1st\, presenters will provide a well-rounded\, accessible program that includes lectures\, case-based learning and live Q&A. A networking reception will follow the talks. \n\nUHP_2024_flyer\nRegister Here
URL:https://aapca2.org/event/5th-annual-updates-in-hospital-pediatrics-conference/
LOCATION:Dale Herklotz Melbourne Auditorium\, Saban Auditori\, Los Angeles\, CA
END:VEVENT
BEGIN:VEVENT
DTSTART;TZID=America/Los_Angeles:20241102T083000
DTEND;TZID=America/Los_Angeles:20241102T133000
DTSTAMP:20260423T185420
CREATED:20241007T202556Z
LAST-MODIFIED:20241007T202556Z
UID:11089-1730536200-1730554200@aapca2.org
SUMMARY:LACMA Business Of Medicine Conference + Career Fair
DESCRIPTION:You’re invited to join us as physicians and physicians in training from Los Angeles and across the state gather on Saturday\, November 2 at the Westin Pasadena for the inaugural Business Of Medicine Conference & Career Fair\, presented by the Los Angeles County Medical Association (LACMA)\, and co-sponsored by the AAP-CA2. \nThe 2024 Business of Medicine Conference will deliver keys to mastering the business side of medicine and provide impactful tools for maneuvering through the complexities of running a small or solo practice. Attendees gain invaluable real-world insights and access tools crafted to slash expenses and increase efficiencies\, while elevating the quality of patient care. Solution providers will be on hand to answer questions and directly engage with physicians. It is an amazing opportunity for pediatricians and residents alike! \nLocation: 191 N. Los Robles Ave\, Pasadena\, CA 91101 \nDate: November 2nd\, 8:30AM – 1:30PM \nItems Covered During The Conference Will Include: \n\nPractice Operations\nFinancial Wellness\nLegal & Compliance Issues\nModernizing Your Practice\nAdvocacy & Legislative Updates\nInsights for Early Career Physicians\nAnd More!\n\nThis event will also feature a career fair with vendors and sponsors\, making it a unique networking opportunity for physicians in all aspects of the pediatric field. The event is FREE for LACMA Members. If you’re not a LACMA member\, you can become one by clicking here to register. The cost to attend for non-members is $250. Click the button below to register today\, or for more information\, visit the official event website!
URL:https://aapca2.org/event/lacma-business-of-medicine-conference-career-fair/
LOCATION:CA
END:VEVENT
BEGIN:VEVENT
DTSTART;TZID=America/Los_Angeles:20241114T120000
DTEND;TZID=America/Los_Angeles:20241114T130000
DTSTAMP:20260423T185420
CREATED:20241106T212942Z
LAST-MODIFIED:20241106T213326Z
UID:11116-1731585600-1731589200@aapca2.org
SUMMARY:LACDPH VPDC Quarterly Pediatric Immunization Information Session for Healthcare Providers
DESCRIPTION:Join us for a webinar featuring guest speaker Dr. Michele Roland from Children’s Hospital Los Angeles\, who will present on suicide prevention strategies for adolescents. \nThe session will also include updates and recommendations for immunizations during respiratory virus season\, presented by Dr. Nava Yeganeh from the Los Angeles County Department of Public Health. \nAfter completion of this activity\, participants will feel more confident in their ability to: \n1. Integrate the latest pediatric ACIP updates and other fall immunization guidelines into practice. \n2. Utilize current terminology when discussing suicide and the prevention of suicide. \n3. Identify youth suicide risk in three steps. \nVirtual Event\nNovember 14th\n12PM – 1PM \nRegister Here! \nDownload Event Flier \nFor additional information contact: csepulveda@ph.lacounty.gov.\n*CEU credits for nurses and CME credit will be available. 
URL:https://aapca2.org/event/lacdph-vpdc-quarterly-pediatric-immunization-information-session-for-healthcare-providers/
LOCATION:CA
END:VEVENT
BEGIN:VEVENT
DTSTART;TZID=America/Los_Angeles:20241119T183000
DTEND;TZID=America/Los_Angeles:20241119T200000
DTSTAMP:20260423T185420
CREATED:20241015T225458Z
LAST-MODIFIED:20241101T171232Z
UID:11100-1732041000-1732046400@aapca2.org
SUMMARY:FREE Behavioral Health Programs for Kids\, Teens & Young Adults
DESCRIPTION:Join us on November 19th to learn about two new state-sponsored behavioral health programs that are FREE for your patients. These programs offer live parent coaching or adolescent and young adult coaching. Presented by BrightLife Kids (Personalized support for California families. Kids ages 0–12) and Soluna (The space to destress\, bounce back\, and reset – free and anonymous for Californians ages 13 to 25). \nPresenters:  \nMallissa Watts\nManager\, Community Engagement\, Brightlife Kids\n \nLaura Tully\, Ph.D.\nVice President\, Clinical Integrations & Partnerships\, Kooth Digital Health \nEvent @ 6:30PM \nRegister Here!
URL:https://aapca2.org/event/brightlife-kids-webinar/
LOCATION:CA
END:VEVENT
END:VCALENDAR